BEGIN:VCALENDAR
VERSION:2.0
PRODID:-//Bicimarket Alcorcón - ECPv6.15.17.1//NONSGML v1.0//EN
CALSCALE:GREGORIAN
METHOD:PUBLISH
X-ORIGINAL-URL:https://bikealcorcon.com
X-WR-CALDESC:Eventos para Bicimarket Alcorcón
REFRESH-INTERVAL;VALUE=DURATION:PT1H
X-Robots-Tag:noindex
X-PUBLISHED-TTL:PT1H
BEGIN:VTIMEZONE
TZID:Europe/Madrid
BEGIN:DAYLIGHT
TZOFFSETFROM:+0100
TZOFFSETTO:+0200
TZNAME:CEST
DTSTART:20240331T010000
END:DAYLIGHT
BEGIN:STANDARD
TZOFFSETFROM:+0200
TZOFFSETTO:+0100
TZNAME:CET
DTSTART:20241027T010000
END:STANDARD
BEGIN:DAYLIGHT
TZOFFSETFROM:+0100
TZOFFSETTO:+0200
TZNAME:CEST
DTSTART:20250330T010000
END:DAYLIGHT
BEGIN:STANDARD
TZOFFSETFROM:+0200
TZOFFSETTO:+0100
TZNAME:CET
DTSTART:20251026T010000
END:STANDARD
BEGIN:DAYLIGHT
TZOFFSETFROM:+0100
TZOFFSETTO:+0200
TZNAME:CEST
DTSTART:20260329T010000
END:DAYLIGHT
BEGIN:STANDARD
TZOFFSETFROM:+0200
TZOFFSETTO:+0100
TZNAME:CET
DTSTART:20261025T010000
END:STANDARD
END:VTIMEZONE
BEGIN:VEVENT
DTSTART;TZID=Europe/Madrid:20251207T100000
DTEND;TZID=Europe/Madrid:20251207T133000
DTSTAMP:20260420T101845
CREATED:20251203T191416Z
LAST-MODIFIED:20251203T192742Z
UID:6555-1765101600-1765114200@bikealcorcon.com
SUMMARY:Ruta MTB Domingo 7 de diciembre
DESCRIPTION:🚵‍♂️ ¡Prepárate para una nueva aventura sobre ruedas!\nEl domingo 7 de diciembre salimos desde Bicimarket Alcorcón para recorrer 50 km en nuestra ruta MTB. ¡Apúntate gratis a pedalear con nosotros! \n📍 Inicio y fin: Bicimarket Alcorcón\n📅 Fecha: Domingo 07/12\n🕤 Hora de salida: 10:00 h\n⏱️ Duración estimada: 3\,5 h\n🚴‍♀️ Ritmo medio: 16 km/h\n🗺️ Recorrido: Alcorcón – Carranque – Alcorcón \n¿Te apuntas?\n📝 Inscríbete:\n✔️ En tienda\n✔️ Por WhatsApp\n✔️ Formulario \n🎯 ¡Plazas limitadas! No te quedes fuera\n💥 Vive la #AventuraSobreRuedas \nruta 0712\nVer track de al ruta \nVolver al inicio \n 
URL:https://bikealcorcon.com/event/ruta-mtb-domingo-7-de-diciembre/
LOCATION:Bicicmarket Alcorcón\, CALLE LOS PINOS 36\, LOCAL 2\, Alcorcón\, Madrid\, 28922\, Spain
CATEGORIES:Rutas MTB
ATTACH;FMTTYPE=image/jpeg:https://bikealcorcon.com/wp-content/uploads/2025/12/Ruta-7-DIC.avif
END:VEVENT
BEGIN:VEVENT
DTSTART;TZID=Europe/Madrid:20251226T160000
DTEND;TZID=Europe/Madrid:20251226T173000
DTSTAMP:20260420T101845
CREATED:20251216T171246Z
LAST-MODIFIED:20251231T120730Z
UID:6722-1766764800-1766770200@bikealcorcon.com
SUMMARY:¡Navidad sobre ruedas! Plan navideño en bici para niños
DESCRIPTION:¡Navidad sobre ruedas! Plan navideño en bici para niños\n👨‍👩‍👧‍👦 ¿Quieres un plan navideño diferente para tus peques?\nEl 26 de diciembre a las 16:00 te esperamos en el Parque de la Ribota (Alcorcón) para una tarde llena de juegos\, sorpresas y diversión 🎁.\n👉 Actividad en bici dirigida a niños de 6 a 12 años\n⏰ Duración: 1\,5 horas\n📍 Punto de encuentro: Bicimarket Alcorcón\, Calle Los Pinos 36\, Alcorcón\n🍫 Y después… ¡una deliciosa chocolatada para recuperar energía!\n✅ Inscripciones gratuitas: Whatsapp al 659358479\, en el formulario https://forms.gle/CBQkMUBpyw4XfRqbA o en la web https://bikealcorcon.com/\n📅 Apúntate hasta el 23 de diciembre\nOrganiza: Bicimarket Alcorcón 🚲\n✨ Diversión\, deporte y espíritu navideño en un mismo plan. \nActividad navidad 26 DIC
URL:https://bikealcorcon.com/event/6722/
LOCATION:Bicicmarket Alcorcón\, CALLE LOS PINOS 36\, LOCAL 2\, Alcorcón\, Madrid\, 28922\, Spain
CATEGORIES:Actividades en bici
ATTACH;FMTTYPE=image/jpeg:https://bikealcorcon.com/wp-content/uploads/2025/12/26-DIC.avif
END:VEVENT
END:VCALENDAR