BEGIN:VCALENDAR
VERSION:2.0
PRODID:-//Bicimarket Alcorcón - ECPv6.15.17.1//NONSGML v1.0//EN
CALSCALE:GREGORIAN
METHOD:PUBLISH
X-WR-CALNAME:Bicimarket Alcorcón
X-ORIGINAL-URL:https://bikealcorcon.com
X-WR-CALDESC:Eventos para Bicimarket Alcorcón
REFRESH-INTERVAL;VALUE=DURATION:PT1H
X-Robots-Tag:noindex
X-PUBLISHED-TTL:PT1H
BEGIN:VTIMEZONE
TZID:Europe/Madrid
BEGIN:DAYLIGHT
TZOFFSETFROM:+0100
TZOFFSETTO:+0200
TZNAME:CEST
DTSTART:20250330T010000
END:DAYLIGHT
BEGIN:STANDARD
TZOFFSETFROM:+0200
TZOFFSETTO:+0100
TZNAME:CET
DTSTART:20251026T010000
END:STANDARD
BEGIN:DAYLIGHT
TZOFFSETFROM:+0100
TZOFFSETTO:+0200
TZNAME:CEST
DTSTART:20260329T010000
END:DAYLIGHT
BEGIN:STANDARD
TZOFFSETFROM:+0200
TZOFFSETTO:+0100
TZNAME:CET
DTSTART:20261025T010000
END:STANDARD
BEGIN:DAYLIGHT
TZOFFSETFROM:+0100
TZOFFSETTO:+0200
TZNAME:CEST
DTSTART:20270328T010000
END:DAYLIGHT
BEGIN:STANDARD
TZOFFSETFROM:+0200
TZOFFSETTO:+0100
TZNAME:CET
DTSTART:20271031T010000
END:STANDARD
END:VTIMEZONE
BEGIN:VEVENT
DTSTART;TZID=Europe/Madrid:20260426T090000
DTEND;TZID=Europe/Madrid:20260426T130000
DTSTAMP:20260426T015630
CREATED:20260421T070853Z
LAST-MODIFIED:20260423T160736Z
UID:8256-1777194000-1777208400@bikealcorcon.com
SUMMARY:Ruta MTB 26/04. Alcorcón - Quinta de El Pardo
DESCRIPTION:Ruta MTB 26/04. Alcorcón – Quinta de El Pardo\n🚵‍♂️ ¡Prepárate para una nueva aventura sobre ruedas!\nEl domingo 26 de abril salimos desde Bicimarket Alcorcón para recorrer 56 km en nuestra ruta MTB. ¡Apúntate gratis a pedalear con nosotros! \n📍 Inicio y fin: Bicimarket Alcorcón\n📅 Fecha: Domingo 26/04\n🕤 Hora de salida: 9:00 h\n⏱️ Duración estimada: 4 h\n🚴‍♀️ Ritmo medio: 16 km/h\n🗺️ Recorrido: Alcorcón – Palacio La Quinta de El Pardo – Alcorcón \n¿Te apuntas?\n📝 Inscríbete:\n✔️ En tienda: calle Los Pinos 36\, Alcorcón\n✔️ Por WhatsApp: 659358479\n✔️ Formulario https://forms.gle/aLA3HzL2jHB9johm7\n✔️ Formulario en nuestra web bikealcorcon.com \n🎯 ¡Plazas limitadas! No te quedes fuera\n💥 Vive la #AventuraSobreRuedas \nTrack de la ruta \nVolver a inicio \nruta 26 de abril -2
URL:https://bikealcorcon.com/event/ruta-mtb-26-04-alcorcon-quinta-de-el-pardo/
LOCATION:Bicicmarket Alcorcón\, CALLE LOS PINOS 36\, LOCAL 2\, Alcorcón\, Madrid\, 28922\, Spain
CATEGORIES:Rutas MTB
ATTACH;FMTTYPE=image/jpeg:https://bikealcorcon.com/wp-content/uploads/2026/04/ruta-26-de-abril-Post-de-Instagram-45.avif
END:VEVENT
END:VCALENDAR